BEGIN:VCALENDAR
VERSION:2.0
PRODID:-//Fido&#039;s Finest Dog Training - ECPv6.13.2.1//NONSGML v1.0//EN
CALSCALE:GREGORIAN
METHOD:PUBLISH
X-ORIGINAL-URL:https://fidosfinestdogtraining.com
X-WR-CALDESC:Events for Fido&#039;s Finest Dog Training
REFRESH-INTERVAL;VALUE=DURATION:PT1H
X-Robots-Tag:noindex
X-PUBLISHED-TTL:PT1H
BEGIN:VTIMEZONE
TZID:America/New_York
BEGIN:DAYLIGHT
TZOFFSETFROM:-0500
TZOFFSETTO:-0400
TZNAME:EDT
DTSTART:20190310T070000
END:DAYLIGHT
BEGIN:STANDARD
TZOFFSETFROM:-0400
TZOFFSETTO:-0500
TZNAME:EST
DTSTART:20191103T060000
END:STANDARD
END:VTIMEZONE
BEGIN:VEVENT
DTSTART;TZID=America/New_York:20191202T191500
DTEND;TZID=America/New_York:20191219T201500
DTSTAMP:20260424T210220
CREATED:20190927T213337Z
LAST-MODIFIED:20190928T172447Z
UID:998-1575314100-1576786500@fidosfinestdogtraining.com
SUMMARY:December Holiday Fast Track Dog Class
DESCRIPTION:December Holiday Fast Track Class Taught by Denice!\n\nBeen meaning to get your pup trained all year? \nShort for time before the holidays?\nNeed your pup to brush up on their manners before meeting the family?\n\n \nGive yourself the gift of a good dog in our holiday speed course! Check out our 3 week\, 6 class offering covering all the basic behaviors PLUS some holiday specifics to help curb your pups enthusiasm for company! \nThis class will meet in December on 2nd\, 5th\, 9th\, 12th\, 16th & 19th. \nBook and pay online:\n \n\n\n\nPlease enter class date:
URL:https://fidosfinestdogtraining.com/event/december-holiday-fast-track-dog-class/
LOCATION:Inside the Classic Canine Pet Spa\, 1505 W McDermott Dr\, Allen\, TX\, 75013\, United States
CATEGORIES:Holiday Fast Track
ATTACH;FMTTYPE=image/jpeg:https://fidosfinestdogtraining.com/wp-content/uploads/2019/09/holiday-fast-track-dog-class-2.jpg
END:VEVENT
BEGIN:VEVENT
DTSTART;TZID=America/New_York:20191104T191500
DTEND;TZID=America/New_York:20191121T201500
DTSTAMP:20260424T210221
CREATED:20190927T212956Z
LAST-MODIFIED:20190928T172649Z
UID:995-1572894900-1574367300@fidosfinestdogtraining.com
SUMMARY:November Holiday Fast Track Dog Class
DESCRIPTION:November Holiday Fast Track Class Taught by Denice!\n\nBeen meaning to get your pup trained all year? \nShort for time before the holidays?\nNeed your pup to brush up on their manners before meeting the family?\n\n \nGive yourself the gift of a good dog in our holiday speed course! Check out our 3 week\, 6 class offering covering all the basic behaviors PLUS some holiday specifics to help curb your pups enthusiasm for company! \nThis class will meet in November on 4th\, 7th\, 11th\, 14th\, 18th & 21st. \nBook and pay online:\n \n\n\n\nPlease enter class date:
URL:https://fidosfinestdogtraining.com/event/november-holiday-fast-track-dog-class/
LOCATION:Inside the Classic Canine Pet Spa\, 1505 W McDermott Dr\, Allen\, TX\, 75013\, United States
CATEGORIES:Holiday Fast Track
ATTACH;FMTTYPE=image/jpeg:https://fidosfinestdogtraining.com/wp-content/uploads/2019/09/holiday-fast-track-dog-class.jpg
END:VEVENT
END:VCALENDAR