BEGIN:VCALENDAR
VERSION:2.0
PRODID:-//Fido&#039;s Finest Dog Training - ECPv6.13.2.1//NONSGML v1.0//EN
CALSCALE:GREGORIAN
METHOD:PUBLISH
X-ORIGINAL-URL:https://fidosfinestdogtraining.com
X-WR-CALDESC:Events for Fido&#039;s Finest Dog Training
REFRESH-INTERVAL;VALUE=DURATION:PT1H
X-Robots-Tag:noindex
X-PUBLISHED-TTL:PT1H
BEGIN:VTIMEZONE
TZID:America/New_York
BEGIN:DAYLIGHT
TZOFFSETFROM:-0500
TZOFFSETTO:-0400
TZNAME:EDT
DTSTART:20160313T070000
END:DAYLIGHT
BEGIN:STANDARD
TZOFFSETFROM:-0400
TZOFFSETTO:-0500
TZNAME:EST
DTSTART:20161106T060000
END:STANDARD
BEGIN:DAYLIGHT
TZOFFSETFROM:-0500
TZOFFSETTO:-0400
TZNAME:EDT
DTSTART:20170312T070000
END:DAYLIGHT
BEGIN:STANDARD
TZOFFSETFROM:-0400
TZOFFSETTO:-0500
TZNAME:EST
DTSTART:20171105T060000
END:STANDARD
BEGIN:DAYLIGHT
TZOFFSETFROM:-0500
TZOFFSETTO:-0400
TZNAME:EDT
DTSTART:20180311T070000
END:DAYLIGHT
BEGIN:STANDARD
TZOFFSETFROM:-0400
TZOFFSETTO:-0500
TZNAME:EST
DTSTART:20181104T060000
END:STANDARD
BEGIN:DAYLIGHT
TZOFFSETFROM:-0500
TZOFFSETTO:-0400
TZNAME:EDT
DTSTART:20190310T070000
END:DAYLIGHT
BEGIN:STANDARD
TZOFFSETFROM:-0400
TZOFFSETTO:-0500
TZNAME:EST
DTSTART:20191103T060000
END:STANDARD
BEGIN:DAYLIGHT
TZOFFSETFROM:-0500
TZOFFSETTO:-0400
TZNAME:EDT
DTSTART:20200308T070000
END:DAYLIGHT
BEGIN:STANDARD
TZOFFSETFROM:-0400
TZOFFSETTO:-0500
TZNAME:EST
DTSTART:20201101T060000
END:STANDARD
BEGIN:DAYLIGHT
TZOFFSETFROM:-0500
TZOFFSETTO:-0400
TZNAME:EDT
DTSTART:20210314T070000
END:DAYLIGHT
BEGIN:STANDARD
TZOFFSETFROM:-0400
TZOFFSETTO:-0500
TZNAME:EST
DTSTART:20211107T060000
END:STANDARD
BEGIN:DAYLIGHT
TZOFFSETFROM:-0500
TZOFFSETTO:-0400
TZNAME:EDT
DTSTART:20220313T070000
END:DAYLIGHT
BEGIN:STANDARD
TZOFFSETFROM:-0400
TZOFFSETTO:-0500
TZNAME:EST
DTSTART:20221106T060000
END:STANDARD
END:VTIMEZONE
BEGIN:VEVENT
DTSTART;TZID=America/New_York:20221015T103000
DTEND;TZID=America/New_York:20221015T113000
DTSTAMP:20260425T070854
CREATED:20220903T221455Z
LAST-MODIFIED:20220907T174203Z
UID:1319-1665829800-1665833400@fidosfinestdogtraining.com
SUMMARY:Hike and Train Outdoor Adventure Class Saturday October 15th
DESCRIPTION:Hike and Train\nSaturday\, October 15th @ 10:30-11:30\nKatie Jackson Park\n4900 Haverwood Ln\, Dallas 75287 \nThis is a great class for practicing loose leash walking skills along with the basic under natures natural distractions. “Squirrel?” \n\nThis is a fun and challenging class for intermediate and advanced level dogs. Dogs should have a working knowledge of: sit\, down\, off\, stay\, leave-it and come.  All dogs need to be people and dog friendly. Please see the calendar on our website for more information and details on each class.\n\nPlease RSVP by mail chimp\, email or FB.  The cost is $35 per dog and each class is 1 hour long.  If there are any changes due to weather we will post them on Mailchimp and FB.  We will cancel class if it is raining or below 50 degrees.\nWear comfy shoes and clothing!
URL:https://fidosfinestdogtraining.com/event/hike-and-train-outdoor-adventure-class-saturday-october-15th/
LOCATION:Katie Jackson Park\, 4900 Haverwood Ln\, Dallas 75287\, Dallas\, TX\, 75287\, United States
CATEGORIES:Hike and Train,Outdoor Adventure
ATTACH;FMTTYPE=image/jpeg:https://fidosfinestdogtraining.com/wp-content/uploads/2017/10/Fidos-Finest-Dog-Training-2017-Outdoor-Class.jpg
END:VEVENT
BEGIN:VEVENT
DTSTART;TZID=America/New_York:20181215T110000
DTEND;TZID=America/New_York:20181215T120000
DTSTAMP:20260425T070854
CREATED:20181012T163013Z
LAST-MODIFIED:20181012T164204Z
UID:756-1544871600-1544875200@fidosfinestdogtraining.com
SUMMARY:Hike and Train Outdoor Adventure Class Saturday December 15th
DESCRIPTION:Hike and Train\nSaturday\, December 15th @ 11:00-12:00\nArbor Hills Nature Preserve\n6701 W. Parker Rd.\, Plano\, Tx 75093 \nWe will meet on the small hill by the restrooms at the front of the park.\nThis is a great class for practicing loose leash walking skills along with the basic under natures natural distractions. “Squirrel?” \n\nThis is a fun and challenging class for intermediate and advanced level dogs. Dogs should have a working knowledge of: sit\, down\, off\, stay\, leave-it and come.  All dogs need to be people and dog friendly. Please see the calendar on our website for more information and details on each class.\n\nPlease RSVP by mail chimp\, email or FB.  The cost is $35 per dog and each class is 1 hour long.  If there are any changes due to weather we will post them on Mailchimp and FB.  We will cancel class if it is raining or below 50 degrees.\nWear comfy shoes and clothing!
URL:https://fidosfinestdogtraining.com/event/hike-and-train-outdoor-adventure-class-saturday-december-15th/
LOCATION:Arbor Hills Nature Preserve\, 6701 W. Parker Rd.\, Plano\, Tx 75093
CATEGORIES:Hike and Train
ATTACH;FMTTYPE=image/jpeg:https://fidosfinestdogtraining.com/wp-content/uploads/2017/10/Fidos-Finest-Dog-Training-2017-Outdoor-Class.jpg
END:VEVENT
BEGIN:VEVENT
DTSTART;TZID=America/New_York:20181013T110000
DTEND;TZID=America/New_York:20181013T120000
DTSTAMP:20260425T070854
CREATED:20181012T161736Z
LAST-MODIFIED:20181012T164609Z
UID:750-1539428400-1539432000@fidosfinestdogtraining.com
SUMMARY:Hike and Train Outdoor Adventure Class Saturday October 13th
DESCRIPTION:Hike and Train\nSaturday\, October 13th @ 11:00-12:00\nArbor Hills Nature Preserve\n6701 W. Parker Rd.\, Plano\, Tx 75093 \nWe will meet on the small hill by the restrooms at the front of the park.\nThis is a great class for practicing loose leash walking skills along with the basic under natures natural distractions. “Squirrel?” \n\nThis is a fun and challenging class for intermediate and advanced level dogs. Dogs should have a working knowledge of: sit\, down\, off\, stay\, leave-it and come.  All dogs need to be people and dog friendly. Please see the calendar on our website for more information and details on each class.\n\nPlease RSVP by mail chimp\, email or FB.  The cost is $35 per dog and each class is 1 hour long.  If there are any changes due to weather we will post them on Mailchimp and FB.  We will cancel class if it is raining or below 50 degrees.\nWear comfy shoes and clothing!
URL:https://fidosfinestdogtraining.com/event/hike-and-train-outdoor-adventure-class-saturday-october-13th/
LOCATION:Arbor Hills Nature Preserve\, 6701 W. Parker Rd.\, Plano\, Tx 75093
CATEGORIES:Hike and Train
ATTACH;FMTTYPE=image/jpeg:https://fidosfinestdogtraining.com/wp-content/uploads/2017/10/Fidos-Finest-Dog-Training-2017-Outdoor-Class.jpg
END:VEVENT
BEGIN:VEVENT
DTSTART;TZID=America/New_York:20171202T110000
DTEND;TZID=America/New_York:20171202T120000
DTSTAMP:20260425T070854
CREATED:20171009T191222Z
LAST-MODIFIED:20171009T191222Z
UID:660-1512212400-1512216000@fidosfinestdogtraining.com
SUMMARY:Hike and Train Outdoor Adventure Class Saturday December 2nd
DESCRIPTION:Hike and Train\nSaturday\, December 2nd @ 11:00-12:00\nArbor Hills Nature Preserve\n6701 W. Parker Rd.\, Plano\, Tx 75093 \n\nWe will meet on the small hill by the restrooms at the front of the park. \n\nThis is a fun and challenging class for intermediate and advanced level dogs. Dogs should have a working knowledge of: sit\, down\, off\, stay\, leave-it and come.  All dogs need to be people and dog friendly.\n\nPlease RSVP by mail chimp\, email or FB.  The cost is $35 per dog and each class is 1 hour long.  If there are any changes due to weather we will post them on Mailchimp and FB.  We will cancel class if it is raining or below 50 degrees.\nWear comfy shoes and clothing!
URL:https://fidosfinestdogtraining.com/event/hike-and-train-outdoor-adventure-class-saturday-december-2nd/
LOCATION:Arbor Hills Nature Preserve\, 6701 W. Parker Rd.\, Plano\, Tx 75093
CATEGORIES:Hike and Train
ATTACH;FMTTYPE=image/jpeg:https://fidosfinestdogtraining.com/wp-content/uploads/2017/10/Fidos-Finest-Dog-Training-2017-Outdoor-Class.jpg
END:VEVENT
BEGIN:VEVENT
DTSTART;TZID=America/New_York:20161210T111500
DTEND;TZID=America/New_York:20161210T121500
DTSTAMP:20260425T070854
CREATED:20161007T102044Z
LAST-MODIFIED:20161010T165008Z
UID:418-1481368500-1481372100@fidosfinestdogtraining.com
SUMMARY:Hike and Train Class December 10th
DESCRIPTION:Come to our Hike and Train Class on December 10th! \nClass will be from  11:15 am – 12:15 pm December 10th in Arbor Hills Nature Preserve. We will meet on the small hill by the restrooms at the front of the park. \nThis is a fun and challenging class for intermediate and advanced level dogs. Dogs should have a working knowledge of: sit\, down\, off\, stay\, leave-it and come. All dogs need to be people and dog friendly.\nPlease see the calendar on our website for more information and details on each class. \nPlease RSVP by mail chimp\, email or FB. The cost is $35 per dog and each class is 1 hour long. If there are any changes due to weather we will post them on our Newsletter and Facebook account. We will cancel class if it is raining or below 50 degrees.\nWear comfy shoes and clothing!
URL:https://fidosfinestdogtraining.com/event/hike-and-train-class-december-10th/
LOCATION:Arbor Hills Nature Preserve\, 6701 W. Parker Rd.\, Plano\, Tx 75093
CATEGORIES:Hike and Train
ATTACH;FMTTYPE=image/jpeg:https://fidosfinestdogtraining.com/wp-content/uploads/2016/10/Fidos-Finest-Dog-Training-Hike-and-Train-Class.jpg
END:VEVENT
BEGIN:VEVENT
DTSTART;TZID=America/New_York:20161027T181500
DTEND;TZID=America/New_York:20161027T191500
DTSTAMP:20260425T070854
CREATED:20161007T100203Z
LAST-MODIFIED:20161010T164835Z
UID:403-1477592100-1477595700@fidosfinestdogtraining.com
SUMMARY:Hike and Train Class October 27th
DESCRIPTION:Come to our Hike and Train Class on October 27th! \nClass will be from  6:15 pm – 7:15 pm October 27th in Arbor Hills Nature Preserve. We will meet on the small hill by the restrooms at the front of the park. \nThis is a fun and challenging class for intermediate and advanced level dogs. Dogs should have a working knowledge of: sit\, down\, off\, stay\, leave-it and come. All dogs need to be people and dog friendly.\nPlease see the calendar on our website for more information and details on each class. \nPlease RSVP by mail chimp\, email or FB. The cost is $35 per dog and each class is 1 hour long. If there are any changes due to weather we will post them on our Newsletter and Facebook account. We will cancel class if it is raining or below 50 degrees.\nWear comfy shoes and clothing!
URL:https://fidosfinestdogtraining.com/event/hike-and-train-class-october-27th/
LOCATION:Arbor Hills Nature Preserve\, 6701 W. Parker Rd.\, Plano\, Tx 75093
CATEGORIES:Hike and Train
ATTACH;FMTTYPE=image/jpeg:https://fidosfinestdogtraining.com/wp-content/uploads/2016/10/Fidos-Finest-Dog-Training-Hike-and-Train-Class.jpg
END:VEVENT
END:VCALENDAR